BEGIN:VCALENDAR
VERSION:2.0
PRODID:-//Politeknik Kuching Sarawak - ECPv6.15.20//NONSGML v1.0//EN
CALSCALE:GREGORIAN
METHOD:PUBLISH
X-WR-CALNAME:Politeknik Kuching Sarawak
X-ORIGINAL-URL:https://www.poliku.edu.my
X-WR-CALDESC:Events for Politeknik Kuching Sarawak
REFRESH-INTERVAL;VALUE=DURATION:PT1H
X-Robots-Tag:noindex
X-PUBLISHED-TTL:PT1H
BEGIN:VTIMEZONE
TZID:Asia/Shanghai
BEGIN:STANDARD
TZOFFSETFROM:+0800
TZOFFSETTO:+0800
TZNAME:CST
DTSTART:20220101T000000
END:STANDARD
END:VTIMEZONE
BEGIN:VEVENT
DTSTART;TZID=Asia/Shanghai:20230521T080000
DTEND;TZID=Asia/Shanghai:20230521T080000
DTSTAMP:20260426T104158
CREATED:20230213T165224Z
LAST-MODIFIED:20230213T165224Z
UID:8753-1684656000-1684656000@www.poliku.edu.my
SUMMARY:Minggu penghantaran Laporan Pemantauan SPAk Minggu ke-14
DESCRIPTION:
URL:https://www.poliku.edu.my/event/minggu-penghantaran-laporan-pemantauan-spak-minggu-ke-14/
CATEGORIES:Pemantauan
END:VEVENT
BEGIN:VEVENT
DTSTART;TZID=Asia/Shanghai:20230530T080000
DTEND;TZID=Asia/Shanghai:20230530T080000
DTSTAMP:20260426T104158
CREATED:20230213T165444Z
LAST-MODIFIED:20230213T165444Z
UID:8766-1685433600-1685433600@www.poliku.edu.my
SUMMARY:Pemantauan Pencapaian Digital Skills Enhancement Programme
DESCRIPTION:
URL:https://www.poliku.edu.my/event/pemantauan-pencapaian-digital-skills-enhancement-programme/
CATEGORIES:Pemantauan
END:VEVENT
BEGIN:VEVENT
DTSTART;TZID=Asia/Shanghai:20230531T080000
DTEND;TZID=Asia/Shanghai:20230531T080000
DTSTAMP:20260426T104158
CREATED:20230213T165459Z
LAST-MODIFIED:20230213T165459Z
UID:8769-1685520000-1685520000@www.poliku.edu.my
SUMMARY:Pemantauan Pencapaian Google Career Certificates
DESCRIPTION:
URL:https://www.poliku.edu.my/event/pemantauan-pencapaian-google-career-certificates-5/
CATEGORIES:Pemantauan
END:VEVENT
END:VCALENDAR