BEGIN:VCALENDAR
VERSION:2.0
PRODID:-//Politeknik Kuching Sarawak - ECPv6.15.20//NONSGML v1.0//EN
CALSCALE:GREGORIAN
METHOD:PUBLISH
X-WR-CALNAME:Politeknik Kuching Sarawak
X-ORIGINAL-URL:https://www.poliku.edu.my
X-WR-CALDESC:Events for Politeknik Kuching Sarawak
REFRESH-INTERVAL;VALUE=DURATION:PT1H
X-Robots-Tag:noindex
X-PUBLISHED-TTL:PT1H
BEGIN:VTIMEZONE
TZID:Asia/Shanghai
BEGIN:STANDARD
TZOFFSETFROM:+0800
TZOFFSETTO:+0800
TZNAME:CST
DTSTART:20220101T000000
END:STANDARD
END:VTIMEZONE
BEGIN:VEVENT
DTSTART;TZID=Asia/Shanghai:20230403T080000
DTEND;TZID=Asia/Shanghai:20230403T080000
DTSTAMP:20260426T120116
CREATED:20230213T153959Z
LAST-MODIFIED:20230213T153959Z
UID:8624-1680508800-1680508800@www.poliku.edu.my
SUMMARY:Minggu penghantaran Laporan Pemantauan SPAk Minggu ke-8
DESCRIPTION:
URL:https://www.poliku.edu.my/event/minggu-penghantaran-laporan-pemantauan-spak-minggu-ke-8/
CATEGORIES:Pemantauan
END:VEVENT
BEGIN:VEVENT
DTSTART;TZID=Asia/Shanghai:20230428T080000
DTEND;TZID=Asia/Shanghai:20230428T080000
DTSTAMP:20260426T120116
CREATED:20230213T154452Z
LAST-MODIFIED:20230213T154452Z
UID:8666-1682668800-1682668800@www.poliku.edu.my
SUMMARY:Pemantauan Pencapaian Google Career Certificates
DESCRIPTION:
URL:https://www.poliku.edu.my/event/pemantauan-pencapaian-google-career-certificates-4/
CATEGORIES:Pemantauan
END:VEVENT
END:VCALENDAR